BEGIN:VCALENDAR
VERSION:2.0
PRODID:-//Mallorca Waterpolo Club - ECPv6.0.10//NONSGML v1.0//EN
CALSCALE:GREGORIAN
METHOD:PUBLISH
X-WR-CALNAME:Mallorca Waterpolo Club
X-ORIGINAL-URL:https://mallorcawpc.es
X-WR-CALDESC:Eventos para Mallorca Waterpolo Club
REFRESH-INTERVAL;VALUE=DURATION:PT1H
X-Robots-Tag:noindex
X-PUBLISHED-TTL:PT1H
BEGIN:VTIMEZONE
TZID:Europe/Madrid
BEGIN:DAYLIGHT
TZOFFSETFROM:+0100
TZOFFSETTO:+0200
TZNAME:CEST
DTSTART:20260329T010000
END:DAYLIGHT
BEGIN:STANDARD
TZOFFSETFROM:+0200
TZOFFSETTO:+0100
TZNAME:CET
DTSTART:20261025T010000
END:STANDARD
END:VTIMEZONE
BEGIN:VEVENT
DTSTART;TZID=Europe/Madrid:20260619T160000
DTEND;TZID=Europe/Madrid:20260621T160000
DTSTAMP:20260424T160308
CREATED:20260424T064843Z
LAST-MODIFIED:20260424T074326Z
UID:7059-1781884800-1782057600@mallorcawpc.es
SUMMARY:VIII Trofeu "CIUTAT de PALMA" 2026
DESCRIPTION:El torneo de referencia del verano en Palma El Trofeu “CIUTAT de PALMA” de Waterpolo es uno de los eventos deportivos más emblemáticos del calendario acuático de Mallorca. Organizado por el Mallorca Waterpolo Club con la colaboración del Institut Municipal de l’Esport (IME) y colaboradoes\, el torneo reúne cada año a equipos nacionales e internacionales en un ambiente competitivo\, deportivo y festivo. Celebrada su primera edición en el año 2009\, el Trofeu se ha consolidado como una cita imprescindible para clubes que buscan cerrar la temporada o iniciar la preparación estival en un entorno de alto nivel. El torneo se disputa en el transcurso del mes de junio en las piscinas exteriores de “Son Hugo” (Palma)\, una instalación referente a nivel estatal por su capacidad\, calidad y tradición en grandes eventos acuáticos. \nEl Trofeu “CIUTAT de PALMA” es un torneo OPEN\, con participación tanto masculina como femenina\, y abierto a clubes de diferentes categorías y niveles. Su carácter internacional lo convierte en un punto de encuentro entre equipos de España y del extranjero. Un evento único en Mallorca que marca el final de la temporada y el inicio del verano deportivo con un trofeu distendido y divertido en un ambiento festivo \nAbrir Web del Toreno\n¡INSCRIBIRSE!
URL:https://mallorcawpc.es/event/viii-trofeu-ciutat-de-palma-2026/
LOCATION:Piscina “Son Hugo”\, Calle Concordia s/n\, Palma\, Illes Balears\, 07004\, España
CATEGORIES:Área Deportiva del Club,Área Social del Club
ATTACH;FMTTYPE=image/png:https://mallorcawpc.es/wp-content/uploads/2026/04/logo_trofeuciutatdepalma2026.png
ORGANIZER;CN="MALLORCA%20WATERPOLO%20CLUB":MAILTO:club@mallorcawc.es
END:VEVENT
END:VCALENDAR